BEGIN:VCALENDAR
VERSION:2.0
CALSCALE:GREGORIAN
PRODID:-//MyApp//Calendar 1.0//EN
BEGIN:VEVENT
METHOD:PUBLISH
UID:47337@regionalniportaly.cz
DTSTAMP:20260424T231021Z
DTSTART;VALUE=DATE:20241102
DTEND;VALUE=DATE:20241103
SUMMARY:FLOYDS – Pink Floyd Tribute
DESCRIPTION:Přijďte si užít výjimečnou propracovaná vizuální show plnou světelných efektů v pohodlí kinosálu.\nMůžete se těšit na okouzlující projev třech špičkových vokalistek okořeněný věrnou choreografií inspirující se posledním celosvětovým turné PULSE z r. 1994\, které nedávno oslavilo své 30 výročí.\n 
LOCATION:Veselí nad Moravou
END:VEVENT
END:VCALENDAR