BEGIN:VCALENDAR
VERSION:2.0
CALSCALE:GREGORIAN
PRODID:-//MyApp//Calendar 1.0//EN
BEGIN:VEVENT
METHOD:PUBLISH
UID:47340@regionalniportaly.cz
DTSTAMP:20260425T004448Z
DTSTART;VALUE=DATE:20241020
DTEND;VALUE=DATE:20241021
SUMMARY:Už ti nikdy nenaletím
DESCRIPTION:KD Strážnice\, 19:00
LOCATION:Strážnice
END:VEVENT
END:VCALENDAR