BEGIN:VCALENDAR
VERSION:2.0
CALSCALE:GREGORIAN
PRODID:-//MyApp//Calendar 1.0//EN
BEGIN:VEVENT
METHOD:PUBLISH
UID:47441@regionalniportaly.cz
DTSTAMP:20260424T213507Z
DTSTART;VALUE=DATE:20241109
DTEND;VALUE=DATE:20241110
SUMMARY:ANKI/JOSEF K a projekce GIRL POWER
DESCRIPTION:17.00 vstup zdarmaProjekce filmu Girl PowerGirl Power je dokumentární film o ženách\, které zasvětily své životy graffiti\, i když této subkultuře naprosto dominují muži. Dokument je založen na silném osobním autobiografickém příběhu pražské writerky Sany\, která ho natáčela po celém světě více sedm let. Zároveň nás seznámí s ženskými writerkami z patnácti měst světa. Fascinující cestopis přichází s novým pohledem na fenomén\, který je širokou veřejností často chápán jako vandalismus\, ale lze ho vnímat i jako životní cestu. (A-Company CZ)94 minutdebata po filmu nejen o filmu\, projekce světových graffity20.00 vstup 150&nbsp\;J O S E F K.Josef K. debutoval v roce 2020 albem Linka B\, vytvořeným kompletně na telefonu v mezičase dopravovaní se metrem\, v roce 2022 s kamarády spoluformoval skupinu DRO deskou Divadelní rapový orchestr. DIY rap založený na intuitivním průzkumu bojem\, lokální patriotismus a inspirace nekonečností velkoměsta\, trapový svojský zvuk a imaginaci podněcující texty.Tracky vznikají od beatů po texty přímo v ulicích Prahy\, nebo na cestách.&nbsp\;A N K IČesko-vietnamský cloud rapper Anki hledá své místo na rapové scéně\, ale i v osobním životě. Autenticky\, bez striktních linií nebo falešné jistoty. Motivy chudoby\, periferií\, změny životních poměrů a vlastní identity se tu potkávají s potřebou vyjádřit se bez okázalých póz.Nová deska I want to fell safe – vyšla před pár týdny - storytelling příběhů\, které by svou tvrdostí nezapadly ani v textech leckteré přísné punkové kapely s mimořádným citem pro strhující vyprávění\, obnažující silná témata.https://wave.rozhlas.cz/hlavnim-snem-je-zit-v-klidu-anki...https://www.youtube.com/watch?v=2A9M5kCek2w&amp\;ab_channel=ANKI
LOCATION:Bílovice
END:VEVENT
END:VCALENDAR