BEGIN:VCALENDAR
VERSION:2.0
CALSCALE:GREGORIAN
PRODID:-//MyApp//Calendar 1.0//EN
BEGIN:VEVENT
METHOD:PUBLISH
UID:47695@regionalniportaly.cz
DTSTAMP:20260425T022337Z
DTSTART;VALUE=DATE:20241213
DTEND;VALUE=DATE:20241214
SUMMARY:Harafica v Jalubí
DESCRIPTION:Obec Jalubí Vás srdečně zve na Večer s cimbálovou muzikou HARAFICA v Jalubí\, a to v pátek 13. prosince od 19h. v Kulturním domě.Přijďte si odpočinout od předvánočního shonu při poslechu Cimbálové muziky HARAFICA\, která je známá svou schopností spojovat moravskou lidovou hudbu s moderními hudebními styly a osobitým přístupem. Zazní jak lidové písně\, tak i skladby s Vánoční tématikou.Občerstvení zajištěno.Cena vstupenky je 250Kč\, předprodej v kanceláři OÚ nebo online přes smsticket.&nbsp\;
LOCATION:Jalubí
END:VEVENT
END:VCALENDAR