BEGIN:VCALENDAR
VERSION:2.0
CALSCALE:GREGORIAN
PRODID:-//MyApp//Calendar 1.0//EN
BEGIN:VEVENT
METHOD:PUBLISH
UID:47838@regionalniportaly.cz
DTSTAMP:20260425T023504Z
DTSTART;VALUE=DATE:20241123
DTEND;VALUE=DATE:20241124
SUMMARY:FS Vlčnovjan - NÁVRATY
DESCRIPTION:FS Vlčnovjan a CM Čardáš si Vás dovolují pozvat na premiéru lidového hudebně tanečního pořadu Návraty&nbsp\;Kde je doma?Kde jsem se narodila\, kam mě srdce zaneslo\,kde mě vždycky vyslechnou\, kam rychle pospíchám\,kde se cítím bezpečně\, kde znám každé stéblo trávy…&nbsp\;Tam se můžu vždycky vrátit.… Místa\, která mě drží nad vodou\,otevřená náruč\, do které mě s&nbsp\;láskou přijmou…Osud v&nbsp\;nás často vidí hrdiny a staví před nás nelehké životní situace.Právě však Návraty do míst\, která máme rádi\, nebo k&nbsp\;lidem\,kteří nás milují\, nám pomáhají tyto situace překonat.&nbsp\;Zvládnutí těchto situací má velké pozitivum – jsou důkazem toho\, že žijeme!&nbsp\;A tak pojďte s&nbsp\;námi prožít Návraty k&nbsp\;dobrému\, i k&nbsp\;tomu méně dobrému&nbsp\;a k&nbsp\;překonání nelehkého. Objevte s&nbsp\;námi nejkrásnější místa a zákoutí Slovácka.&nbsp\;&nbsp\;Nemějte strach\, společně se navrátíme zpátky domů.
LOCATION:Vlčnov
END:VEVENT
END:VCALENDAR