BEGIN:VCALENDAR
VERSION:2.0
CALSCALE:GREGORIAN
PRODID:-//MyApp//Calendar 1.0//EN
BEGIN:VEVENT
METHOD:PUBLISH
UID:47865@regionalniportaly.cz
DTSTAMP:20260425T022632Z
DTSTART;VALUE=DATE:20241207
DTEND;VALUE=DATE:20241208
SUMMARY:PEKELNÁ NOC - Dance Party
DESCRIPTION:Připojte se na největší Pekelnou Párty! Ukažme peklu\, že se ho nebojíme a rozpoutejme peklo v kulturním domě Mikulčice.ZVEME VŠECHNY GENERACEČEKAJÍ NA VÁS 2 STAGE BARY!Welcome drink pro prvních 100 účastníkůAKČNÍ DRINKY (dozvíš se na místě)Koktejl bar s míchanými drinky za supercenyFotokoutek pro vzpomínkové skupinové foto (možnost nechat si vyvolat foto)Světelná a Laserová show a Špičkový zvukNejlevnější pití v regionu\, přijďte se přesvědčit!Dárečky za drinkyZa pultem DJ David\, DJ Mil@no a DJ STODMi************************************************Na baru velký výběr alko i nealko za skvělé cenyŠATNA V PROVOZU.Možnost platby KARTOU!************************************************➥ VSTUPNÉ 99\,- Kč**************************ODJEZDY AUTOBUSŮZ Hodonína 20:25 | Z Břeclavi 20:35==================================➥ My děláme diskotéku – vy děláte zábavu➥ Potvrď svou účast a pozvi i své přátele➥ Těšíme se na vás➥ Rozešlete pozvánky dál - sdílejte\, lajkujte
LOCATION:Mikulčice
END:VEVENT
END:VCALENDAR