BEGIN:VCALENDAR
VERSION:2.0
CALSCALE:GREGORIAN
PRODID:-//MyApp//Calendar 1.0//EN
BEGIN:VEVENT
METHOD:PUBLISH
UID:47888@regionalniportaly.cz
DTSTAMP:20260425T004426Z
DTSTART;VALUE=DATE:20241115
DTEND;VALUE=DATE:20241116
SUMMARY:MMNK & Hihihahaholky
DESCRIPTION:mmnk&nbsp\;je sebranka z Brna\, třesoucí se na vlně experimentálního rocku s drzými a chytrými texty\, někde mezi Pražským výběrem a moravským vrabcem. Jejich debut Uměnení 2: Ohnivá pomsta vyšel 4. února 2022 na brněnském labelu Kabinet Records. Mísí se na něm posthardcore\, prog\, math rock\, art rock\, noise\, pop\, brněnská alternativa nebo jazzové breaky a drzý\, sebejistý floutkovský vokální projev a kinky rap. S touhle kapelou je naživo sranda.Hudební uskupení&nbsp\;HIHIHAHAHOLKY&nbsp\;představují zpěvačky\, raperky a performerky Alena Novotná a Štěpánka Todorová\, které spoluutváří trio s hudebním producentem a live DJ Matějem Šímou. Jejich tvorba je specifická experimentem slova\, rapu a hudby šité na míru ve spektru od jazzových až po tvrdé trapové beaty. Celé uskupení spojuje studium herectví na Katedře alternativního a loutkového divadla DAMU\, kde kapela v roce 2022 vznikla.
LOCATION:Uherské Hradiště
END:VEVENT
END:VCALENDAR