BEGIN:VCALENDAR
VERSION:2.0
CALSCALE:GREGORIAN
PRODID:-//MyApp//Calendar 1.0//EN
BEGIN:VEVENT
METHOD:PUBLISH
UID:48077@regionalniportaly.cz
DTSTAMP:20260424T230842Z
DTSTART;VALUE=DATE:20241129
DTEND;VALUE=DATE:20241130
SUMMARY:DNB RAVE vol.2
DESCRIPTION:Letos již podruhé k nám zavítá DNB RAVE !! Tentokrát se můžete těšit na skvělý našlapaný line-up\, kde se představí hned 7 DJs s čele Slovenskou DJkou C:ircle nebo Českým producentem Symplex!!&nbsp\;DJs:C:rcle // Symplex // Teya // Apokain // Joshu4 // Madara // Byapee&nbsp\;V.I.P. BOX NA TENTO VEČER NAJDETE NA SMSTICKET.CZHAPPY MOMENT&nbsp\; //&nbsp\; LASER SHOW&nbsp\; //&nbsp\; Vstup 16+Vstupné na místě 150 Kč / předprodej za 100 Kčwww.no6.czhttps://no6.cz/n-akce-a-novinkywww.instagram.com/discoclubno6www.instagram.com/studentslifeuhHappy hour na lodě a maxi drinky do 23:59Rezervace stolů na čísle 731 108 781
LOCATION:Uherské Hradiště
END:VEVENT
END:VCALENDAR