BEGIN:VCALENDAR
VERSION:2.0
CALSCALE:GREGORIAN
PRODID:-//MyApp//Calendar 1.0//EN
BEGIN:VEVENT
METHOD:PUBLISH
UID:48196@regionalniportaly.cz
DTSTAMP:20260425T023346Z
DTSTART;VALUE=DATE:20241129
DTEND;VALUE=DATE:20241130
SUMMARY:Redblack Memories
DESCRIPTION:Co spojuje kapely DARK GAMBALLE a FREE FALL? Obě svého času spadaly pod vydavatelství REDBLACK\, které mezi lety 2000-2010 patřilo mezi špičku českého metalového undergroundu. Jako vzpomínku na toto období se kluci rozhodli uspořádat koncert v uherskohradišťském klubu Mír a na pomoc si přizvali další dva hosty - stará známá jména - Six Degrees of Separation a The Pant.Kdy: pátek 29.11.2024Door : 19:00Vstupné: 290 Kč (předprodej) / 320 Kč (na místě)
LOCATION:Uherské Hradiště
END:VEVENT
END:VCALENDAR