BEGIN:VCALENDAR
VERSION:2.0
CALSCALE:GREGORIAN
PRODID:-//MyApp//Calendar 1.0//EN
BEGIN:VEVENT
METHOD:PUBLISH
UID:48315@regionalniportaly.cz
DTSTAMP:20260425T040237Z
DTSTART;VALUE=DATE:20241211
DTEND;VALUE=DATE:20241212
SUMMARY:Cesta světla - Adventní koncert VUS Ondráš v Prušánkách
DESCRIPTION:Cesta světla je hudební cyklus\, který vypráví příběh narození Ježíše Krista a současně nahlíží do atmosféry lidových Vánoc. Hudebně vychází především z&nbsp\;dobře známých českých a moravských koled\, které však zazní v&nbsp\;nevšedních orchestrálních a vokálních aranžmá. Posluchače čeká barvitá cesta ke Kristovu narození\, stejně jako k&nbsp\;lidskému pochopení této zázračné události.Scénář a hudba:&nbsp\;Jiří SlavíkRežie:&nbsp\;Martin KrajňákDélka pořadu:&nbsp\;60 minutÚčinkuje:&nbsp\; profesionální a externí část souboruOrchestr lidových nástrojů (14-16 osob)dívčí sbor (8-12&nbsp\;osob)technicko-provozní zabezpečení (8 osob)
LOCATION:Prušánky
END:VEVENT
END:VCALENDAR