BEGIN:VCALENDAR
VERSION:2.0
CALSCALE:GREGORIAN
PRODID:-//MyApp//Calendar 1.0//EN
BEGIN:VEVENT
METHOD:PUBLISH
UID:48446@regionalniportaly.cz
DTSTAMP:20260425T040143Z
DTSTART;VALUE=DATE:20241227
DTEND;VALUE=DATE:20241228
SUMMARY:Slam poetry povánoční
DESCRIPTION:Už po bůhvíkolikáte míří na Mír zbroušené špice domácího slamového žánru\, aby bouchly šampus kultury ještě s předsilvestrovskou rezervou…„Slam cooo?“Performativní žánr přednesu autorské poezie. Žádné kostýmy. Ani rekvizity. Vlastní text. Nebo improvizace. Dojetí! Smích? Dekadence?! A body publika! Slam!!!
LOCATION:Uherské Hradiště
END:VEVENT
END:VCALENDAR