BEGIN:VCALENDAR
VERSION:2.0
CALSCALE:GREGORIAN
PRODID:-//MyApp//Calendar 1.0//EN
BEGIN:VEVENT
METHOD:PUBLISH
UID:48627@regionalniportaly.cz
DTSTAMP:20260425T040203Z
DTSTART;VALUE=DATE:20250103
DTEND;VALUE=DATE:20250104
SUMMARY:Novoroční pěvecký koncert - Robin Červinek a hosté
DESCRIPTION:Novoroční pěvecký koncert vynikajícího barytonisty Robina Červinka ze Skoronic Vás svým výkonem zajisté upoutá od začátku svého recitálu.Jako hosté vystoupí:Kateřina&nbsp\;Buršová&nbsp\;- sopránMarta&nbsp\;Vašková - klavírní doprovodRobin Červinek se narodil v Kyjově\, kde také se zpěvem začal na ZUŠ. Dále navštěvoval soukromé hodiny u sólisty Národního divadla v Brně Davida Szendiucha. V roce 2021 získal magisterský titul na JAMU v Brně ve třídě doc. Zdeňka Šmukaře. V roce 2023 dokončil magisterský titul na prestižní Universität für Musik und darstellende Kunst ve Vídni\, kde studoval u prof. Margit Klaushofer. Během studií se zúčastnil několika mezinárodních interpretačních kurzů u světových umělců a pedagogů jako jsou například: Adam Plachetka\, Rene Pape\, Kateřina Kněžíková\, Markéta Cukrová\, Peter Mikuláš\, Gabriela Beňačková\, Thomas Steinhöfel\, Singfried Goritz.V současné době hostuje v ND Brno (Notář\, Dancaire)\, NDM Ostrava (Aeneas)\, MD Olomouc (Tonio)\, DJKT Plzeň (De Bretigny)\, ND Záhřeb (Gulielmo) Opera Chemnitz (Escamillio) a je členem SND Bratislava.
LOCATION:Ždánice
END:VEVENT
END:VCALENDAR