BEGIN:VCALENDAR
VERSION:2.0
CALSCALE:GREGORIAN
PRODID:-//MyApp//Calendar 1.0//EN
BEGIN:VEVENT
METHOD:PUBLISH
UID:48751@regionalniportaly.cz
DTSTAMP:20260425T103216Z
DTSTART;VALUE=DATE:20250409
DTEND;VALUE=DATE:20250410
SUMMARY:Bratři Ebenové
DESCRIPTION:Kapela tří bratří Ebenových (Marek\, Kryštof\, David) a dalších předních českých hudebníků (Pavel Skála\, Jaromír Honzák a Jiří Zelenka). Koncertně hrají průřez tvorbou od prvního alba Malé písně do tmy (1984) až po poslední Co my víme (2023)\, které je svým obsahem čím dál tím aktuálnější.\nV době vydání prvního alba „Malé písně do tmy“ (1984) působila kapela jako bratrské trio - Marek\, Kryštof a David a byli na české hudební scéně svým přístupem zcela ojedinělí. Synové významného hudebního skladatele Petra Ebena (1929 – 2007) dostali klasické hudební vzdělání\, zároveň však vstřebávali vlivy moderní folkové\, jazzové a rockové muziky. Svou schopností čerpat ze všech těchto zdrojů a umění používat různé neobvyklé hudební nástroje\, vznikl absolutně netradiční\, na české scéně nenapodobitelný „ebenovský zvuk“. Navíc ve spojení s výjimečnými texty Marka byli a doposud jsou Bratři Ebenové na české hudební scéně jedineční.\n \nVstupenky v prodeji zde:https://www.kkuh.cz/bratri-ebenove\n \nvstup od 18:00koncert samotný od 19:00
LOCATION:Uherské Hradiště
END:VEVENT
END:VCALENDAR