BEGIN:VCALENDAR
VERSION:2.0
CALSCALE:GREGORIAN
PRODID:-//MyApp//Calendar 1.0//EN
BEGIN:VEVENT
METHOD:PUBLISH
UID:48779@regionalniportaly.cz
DTSTAMP:20260425T103302Z
DTSTART;VALUE=DATE:20250405
DTEND;VALUE=DATE:20250406
SUMMARY:Nikdo není normální
DESCRIPTION:NIKDO NEJSME NORMÁLNí -&nbsp\;&nbsp\;KOMEDIE JAKO HROM!Režie: John LomMálokterá komedie tak rozesměje\, jako ty od Johna Loma. Po kometě Šest v&nbsp\;tom se na vás řítí další! Nikdo nejsme normální je komediální hit.Vodopád neuvěřitelných situací\, kterým se divácká bránice jen těžko ubrání. Roger\, Belinda\, Frenký\, Carmen\, Dustin a Gloria jsou zárukami skvěle prožitého večera. A jako třešnička na dortu plném smíchu\, zástupce umělé inteligence Kliford. Nikdo z&nbsp\;nich není normální…Stejně jako vy.FRENKÝ - Jaroslav Sypal: Byl jednou jeden polda\,&nbsp\;Lotrando a Zubejda \,Jak ukrást Dagmaru\, FILMAN a dalšíROGER – Petr Batěk :Zlatá labuť – Polda – SpecialistéGLORIA – Jaroslava Stránská:&nbsp\;Policie Modrava\, poručík Lucie Krásenská – DiscopříběhCARMEN – Aneta Vrzalová:&nbsp\;Jedna z&nbsp\;nejkrásnějších českých hereček Aneta Vrzalová\, je známá například&nbsp\;z filmů Decibely lásky\, Křídla Vánoc nebo seriálu Labyrint.BELINDA- Eva Hráská:Ordinace v&nbsp\;růžové zahradě - &nbsp\;Modrý kód- SpecialistéDUSTIN - Petr Vojnar:&nbsp\;Vyprávěj - Moderátor pořadů Tv&nbsp\; Prima - Divošky a Nikdo není dokonalý
LOCATION:Ždánice
END:VEVENT
END:VCALENDAR