BEGIN:VCALENDAR
VERSION:2.0
CALSCALE:GREGORIAN
PRODID:-//MyApp//Calendar 1.0//EN
BEGIN:VEVENT
METHOD:PUBLISH
UID:48999@regionalniportaly.cz
DTSTAMP:20260425T102339Z
DTSTART;VALUE=DATE:20250403
DTEND;VALUE=DATE:20250404
SUMMARY:V rytmu tance
DESCRIPTION:Ona o sobě tvrdí\, že je spíše introvertka\, zatímco on se charakterizuje jako rozkošný rebel. On ve víře vychováván\, ona si k ní našla cestu v dospělosti. Oba šli za hlasem svého srdce a stali se duchovními. Ona se již dvakrát osobně setkala s papežem\, on po tom stále jen touží. Ona si nejvíc odpočine v galerii na výstavě\, zatímco on sledováním sportovních přenosů.
LOCATION:Svatobořice-Mistřín
END:VEVENT
END:VCALENDAR