BEGIN:VCALENDAR
VERSION:2.0
CALSCALE:GREGORIAN
PRODID:-//MyApp//Calendar 1.0//EN
BEGIN:VEVENT
METHOD:PUBLISH
UID:49300@regionalniportaly.cz
DTSTAMP:20260424T215848Z
DTSTART;VALUE=DATE:20251024
DTEND;VALUE=DATE:20251025
SUMMARY:12:Piet + Zputnik
DESCRIPTION:&nbsp\;Změna v programu!Přátelé\, máme pro vás důležité oznámení: kapela Elektrick Mann bohužel nevystoupí na říjnové akci v Uherském Hradišti. Mrzí nás to\, ale zároveň máme skvělou zprávu – záskok bude víc než důstojný!&nbsp\;Místo nich to na pódiu rozbalí ZPUTNIK – kapela\, která umí udělat pořádnej rachot a rozhodně vás nenechá v klidu!&nbsp\;O záruku hudebního nekorektna se dál postará i domácí smečka 12:PIET\, takže o kvalitní večírek rozhodně nepřijdete.&nbsp\;Elektrik Mann dorazí na Mír v plné síle v březnu 2026.Díky za pochopení a těšíme se na vás!Dotazy ohledně zakoupených vstupenek můžete zasílat na e-mail: Metalfeastagency@gmail.com
LOCATION:Uherské Hradiště
END:VEVENT
END:VCALENDAR