BEGIN:VCALENDAR
VERSION:2.0
CALSCALE:GREGORIAN
PRODID:-//MyApp//Calendar 1.0//EN
BEGIN:VEVENT
METHOD:PUBLISH
UID:49639@regionalniportaly.cz
DTSTAMP:20260425T120939Z
DTSTART;VALUE=DATE:20250328
DTEND;VALUE=DATE:20250329
SUMMARY:November 2nd
DESCRIPTION:Máte rádi kytarové riffy\, výrazné bubny nebo bluesově agresivní zvuk v kombinaci s elektronikou? Skupina November 2nd\, která za rok 2024&nbsp\;získala největší počet nominací na Ceny Anděl a nakonec zvítězila v královské kategorii Album roku\, u nás vystoupí v poslední březnový pátek poprvé.
LOCATION:Uherské Hradiště
END:VEVENT
END:VCALENDAR