BEGIN:VCALENDAR
VERSION:2.0
CALSCALE:GREGORIAN
PRODID:-//MyApp//Calendar 1.0//EN
BEGIN:VEVENT
METHOD:PUBLISH
UID:50108@regionalniportaly.cz
DTSTAMP:20260425T115500Z
DTSTART;VALUE=DATE:20250321
DTEND;VALUE=DATE:20250322
SUMMARY:TECHNO ONLY
DESCRIPTION:Již podruhé bude celý večer znít TECHNO !! Naše rezidentní párty TECHNO ONLY je zpět!!DJs: RICHARD REYNOLDS II WOTTY II MARTIN QUESTNovinka v Clubu No.6 - V.I.P. BOX - kupuj přes web smsticket.cz a do vyhledávání dej Club No.6HEADLINER DJ - RICHARD REYNOLDSSUPPORT DJ - WOTTY II MARTIN QUESTHAPPY MOMENTLASER SHOWVstup 16+Vstupné 150 KčPředprodej 100 Kčwww.no6.czhttps://no6.cz/n-akce-a-novinkywww.instagram.com/discoclubno6www.instagram.com/studentslifeuhHappy hour na lodě a maxi drinky do 23:59Rezervace stolů na čísle 731 108 781
LOCATION:Uherské Hradiště
END:VEVENT
END:VCALENDAR