BEGIN:VCALENDAR
VERSION:2.0
CALSCALE:GREGORIAN
PRODID:-//MyApp//Calendar 1.0//EN
BEGIN:VEVENT
METHOD:PUBLISH
UID:50251@regionalniportaly.cz
DTSTAMP:20260425T154642Z
DTSTART;VALUE=DATE:20250411
DTEND;VALUE=DATE:20250412
SUMMARY:Harlej 30 let
DESCRIPTION:
LOCATION:Strážnice
END:VEVENT
END:VCALENDAR