BEGIN:VCALENDAR
VERSION:2.0
CALSCALE:GREGORIAN
PRODID:-//MyApp//Calendar 1.0//EN
BEGIN:VEVENT
METHOD:PUBLISH
UID:50330@regionalniportaly.cz
DTSTAMP:20260425T121032Z
DTSTART;VALUE=DATE:20250329
DTEND;VALUE=DATE:20250330
SUMMARY:Normální debil
DESCRIPTION:Divadelní hra Normální debil vznikla na motivy stejnojmenné knihy Roberta Bellana. Jedná se o retro komedii\, kdy základem vyprávění jsou příhody z autorova dětství prožitého v socialistickém Československu.Během večera plného humoru\, nadsázky i nostalgie se ocitneme spolu s hlavním hrdinou – známým průšvihářem Norbertem Intribusem – například v socialistické domácnosti\, ve škole\, na fotbalovém hřišti\, u splavu\, v nemocnici\, nebo třeba i překvapivě na hřbitovním sexuálním večírku.Nedílnou součástí inscenace je dobová „pop music“\, vysílání Československé televize a odborný pohled na psychický vulkanismus.
LOCATION:Svatobořice-Mistřín
END:VEVENT
END:VCALENDAR