BEGIN:VCALENDAR
VERSION:2.0
CALSCALE:GREGORIAN
PRODID:-//MyApp//Calendar 1.0//EN
BEGIN:VEVENT
METHOD:PUBLISH
UID:50769@regionalniportaly.cz
DTSTAMP:20260425T134719Z
DTSTART;VALUE=DATE:20250411
DTEND;VALUE=DATE:20250412
SUMMARY:DNB RAVE vol.4
DESCRIPTION:Další pokračování\, tentokrát čtvrté vydání DNB RAVE je opět tady!!Hlavní headliner večera CHANGING FACES / SKSupport obstarají: ARDIN / SK \, SLUG / CZ \, MADARA / CZ + contest winner&nbsp\;&nbsp\;Na místě bude vstupné za 150 Kč.
LOCATION:Uherské Hradiště
END:VEVENT
END:VCALENDAR