BEGIN:VCALENDAR
VERSION:2.0
CALSCALE:GREGORIAN
PRODID:-//MyApp//Calendar 1.0//EN
BEGIN:VEVENT
METHOD:PUBLISH
UID:50831@regionalniportaly.cz
DTSTAMP:20260425T103347Z
DTSTART;VALUE=DATE:20250503
DTEND;VALUE=DATE:20250504
SUMMARY:Májový košt vín
DESCRIPTION:KLUB VINAŘŮ Svatobořice-Mistřín ve spolupráci s Vinařstvím DUFEK Vás zvou k neomezené ochutnávce vín drobných vinařů a profesionálních vinařství z celé ČR i zahraničí.Tento košt je jedinečný a výjimečný tím\, že na jednom místě ochutnáte ty nejlepší vína od těch nejlepších profesionálních vinařství.Vinařství Dufek\, U Šťastných\, Zámecké vinařství Bzenec\, B/V vinařství\, Štěpán Maňák\, Metroflora\, Sklepy Skalák\, Valihrach\, Volařík\, Spielberg a mnoho dalších.Výstava vín pod širým nebem se stala za 11 let fenoménem v blízkém i dalekém okolí.Před vinařstvím DUFEK budou postaveny velké párty stany\, kde budete moci zdegustovat na 715&nbsp\;vzorků\, z toho 370&nbsp\;vzorků od vinařů amatérů a 345&nbsp\;vzorků od 56&nbsp\;profesionálních vinařství.Poprvé budete moci ochutnat vína ročníku 2024\, který lze z hlediska vinařského už nyní hodnotit jako mimořádný\, takže je na co se těšit. V nabídce najdete celé spektrum odrůd tradičních\, méně známých\, novinek i rarity. Vína vyráběná jak tradičním způsobem\, tak řízeným kvašením za uplatnění různých technologií\, ať už kryomacerace\, battonage\, sur-lie\, pet-nat či kvevri. K ochutnání budou vína všech kategorií\, zemská\, jakostní\, přívlastková a VOC - vína originální certifikace.Doufáme\, že i letošní návštěva splní Vaše očekávání a každý si svého favorita najde.Penzion Svatoborský sklípek si pro Vás připraví bohaté pohoštění.&nbsp\;Grilovanou&nbsp\;kýtu\, řízek\, guláš\, sýry dovezené přímo z Francie a vynikající cukrářské výrobky.K dobré náladě Vám zahraje&nbsp\;cimbálová muzika Dukát.Degustace a bodové hodnocení vín drobných vinařů&nbsp\;proběhne v pátek 25.4. v 17:00 ve Vinařství DUFEK.Těší se na Vás pořadatelé.
LOCATION:Svatobořice-Mistřín
END:VEVENT
END:VCALENDAR