BEGIN:VCALENDAR
VERSION:2.0
CALSCALE:GREGORIAN
PRODID:-//MyApp//Calendar 1.0//EN
BEGIN:VEVENT
METHOD:PUBLISH
UID:51032@regionalniportaly.cz
DTSTAMP:20260425T024323Z
DTSTART;VALUE=DATE:20250531
DTEND;VALUE=DATE:20250601
SUMMARY:Den otevřených sklepů ve Bzenci
DESCRIPTION:Přijeďte do Bzence za vínem a vinaři.&nbsp\;Na dvacet místních vinařů Vám otevírá své sklepy i moderní degustační prostory.&nbsp\;Je pro vás připraven doprovodný program s cimbálovou muzikou a bohatá nabídka&nbsp\;občerstvění.
LOCATION:Bzenec
END:VEVENT
END:VCALENDAR