BEGIN:VCALENDAR
VERSION:2.0
CALSCALE:GREGORIAN
PRODID:-//MyApp//Calendar 1.0//EN
BEGIN:VEVENT
METHOD:PUBLISH
UID:51509@regionalniportaly.cz
DTSTAMP:20260425T134746Z
DTSTART;VALUE=DATE:20250322
DTEND;VALUE=DATE:20250323
SUMMARY:Pestrovečer 2025
DESCRIPTION:V kouzelném začátku jara\, konkrétně v sobotu 22. března\, se bude již po osmnácté konat multižánrový festival Pestrovečer v kulturním domě Mikulčice.Přijďte oslavit bohatství uměleckého a společenského života v našem regionu a strávit příjemný čas s přáteli!&nbsp\;Na co se můžete v sobotu těšit?PROGRAM:15:30 Divadlo: Ústav Úžasu uvede punkové loutkové divadlo VLK A HLAD16:30 Přednášky a debatyKONCERTY od 19:00Funk-o-Fón: unikátní aranžmá hitů žánru funky\, soulu a popuČankišou: jedinečná fúze world music a rocku mísící vlivy několika etnik a rockové základyThe Rocket dogz: nářez od skvělé rockabilly kapelyMutanti hledaj východisko: alternativní hip-hopová skupina&nbsp\;Další program:Výstava fotografií Příroda Moravské AmazonieUmělecké výstavy a workshopyBronto ekostánekTombola&nbsp\;Občerstvení:Čajovna\, kavárna\, bar!Skvělý guláš\, stánek s úžasnými burgery.Nocleh: v tělocvičně a taky můžete přijet už v pátek a přespat na klubovně.
LOCATION:Mikulčice
END:VEVENT
END:VCALENDAR