BEGIN:VCALENDAR
VERSION:2.0
CALSCALE:GREGORIAN
PRODID:-//MyApp//Calendar 1.0//EN
BEGIN:VEVENT
METHOD:PUBLISH
UID:51538@regionalniportaly.cz
DTSTAMP:20260425T152721Z
DTSTART;VALUE=DATE:20250329
DTEND;VALUE=DATE:20250330
SUMMARY:Postní rozjímání
DESCRIPTION:Doba postní vybízí k rozjímání nad sebou samým a nad otázkami toho\, co nás převyšuje. Pěvecké sdružení moravských učitelů nabídne posluchačům&nbsp\;prostor ponořit se do duchovních skladeb významných autorů v nádherných prostorách&nbsp\;kostela&nbsp\;sv. Isidora\, které umocní hloubku spirituálního prožitku z koncertu.Vstupenky jsou bez místenek a budou k dostání v předprodeji i na místě. Kostel bude otevřen 30 minut před začátkem koncertu. Děti do 15 let mají vstup zdarma.
LOCATION:Prušánky
END:VEVENT
END:VCALENDAR