BEGIN:VCALENDAR
VERSION:2.0
CALSCALE:GREGORIAN
PRODID:-//MyApp//Calendar 1.0//EN
BEGIN:VEVENT
METHOD:PUBLISH
UID:51836@regionalniportaly.cz
DTSTAMP:20260425T103506Z
DTSTART;VALUE=DATE:20250326
DTEND;VALUE=DATE:20250327
SUMMARY:Osmany show
DESCRIPTION:OSMANY SHOWOriginální zábavný pořad populárního módního návrháře kubánského původu Osmanyho Laffity se zbrusu novými historkami a příběhy.Devadesát minut nekorektního humoru a zábavy\, která Vás bezesporu pobaví. Osmany Vám dá nahlédnout do svého soukromí a ukáže\, že je také člověk z masa a kostí. I mnohdy smutnou historku dovede podat neodolatelným způsobem\, který pobaví.Show\, která polechtá Vaši bránici!&nbsp\;Moderuje: Eva DECASTELOÚčinkuje: Osmany LAFFITA&nbsp\;Délka představení 90 až 120 minut (obvykle + přestávka).&nbsp\;Představení nedoporučujeme divákům mladším 15 let.&nbsp\;
LOCATION:Uherské Hradiště
END:VEVENT
END:VCALENDAR