BEGIN:VCALENDAR
VERSION:2.0
CALSCALE:GREGORIAN
PRODID:-//MyApp//Calendar 1.0//EN
BEGIN:VEVENT
METHOD:PUBLISH
UID:52278@regionalniportaly.cz
DTSTAMP:20260425T114855Z
DTSTART;VALUE=DATE:20250510
DTEND;VALUE=DATE:20250511
SUMMARY:Laco Deczi & Celula New York
DESCRIPTION:Laco Deczi je slovenský jazzový trumpetista\, skladatel a kapelník\, který od 80. let žije v USA. Jeho kapela Celula New York hraje energický fusion jazz s vlivy funku a latinskoamerické hudby. Deczi je známý svou výraznou trumpetovou hrou\, dynamickým projevem a nekompromisním přístupem k hudbě.
LOCATION:Uherský Brod
END:VEVENT
END:VCALENDAR