BEGIN:VCALENDAR
VERSION:2.0
CALSCALE:GREGORIAN
PRODID:-//MyApp//Calendar 1.0//EN
BEGIN:VEVENT
METHOD:PUBLISH
UID:52279@regionalniportaly.cz
DTSTAMP:20260425T023809Z
DTSTART;VALUE=DATE:20250912
DTEND;VALUE=DATE:20250913
SUMMARY:Mucha
DESCRIPTION:Nikola Mucha\, známá pod uměleckým jménem Mucha\, hraje alternativní folk-punk s prvky rocku a satiry. Její tvorba je energická\, často provokativní a obsahuje výrazné texty s feministickým a společenskokritickým přesahem. Mucha si získala popularitu díky syrovým\, autentickým vystoupením a nekompromisnímu přístupu k hudbě i textům.
LOCATION:Uherský Brod
END:VEVENT
END:VCALENDAR