BEGIN:VCALENDAR
VERSION:2.0
CALSCALE:GREGORIAN
PRODID:-//MyApp//Calendar 1.0//EN
BEGIN:VEVENT
METHOD:PUBLISH
UID:52280@regionalniportaly.cz
DTSTAMP:20260425T115553Z
DTSTART;VALUE=DATE:20250427
DTEND;VALUE=DATE:20250428
SUMMARY:Peter Lipa Band
DESCRIPTION:Peter Lipa Band je hudební skupina vedená slovenským jazzovým zpěvákem Peterem Lipou\, který je považován za průkopníka jazzové a bluesové scény v bývalém Československu.Kapela kombinuje prvky jazzu\, blues\, soulu a šansonu s výraznými texty\, často inspirovanými poezií.Peter Lipa Band pravidelně koncertuje na domácí i zahraniční scéně a je známý svou improvizací a osobitým vokálním projevem.
LOCATION:Uherský Brod
END:VEVENT
END:VCALENDAR