BEGIN:VCALENDAR
VERSION:2.0
CALSCALE:GREGORIAN
PRODID:-//MyApp//Calendar 1.0//EN
BEGIN:VEVENT
METHOD:PUBLISH
UID:52806@regionalniportaly.cz
DTSTAMP:20260425T134622Z
DTSTART;VALUE=DATE:20250504
DTEND;VALUE=DATE:20250505
SUMMARY:Jarní koncert
DESCRIPTION:Jarní koncert Pěveckého sboru Dvořák Uherský Brod.Účinkují:Pěvecký sbor DvořákKomorní sbor DvořákSólo: Ingrid Fukanová\, Monika Koubová\, Veronika Šebáková\, Štěpán Binar\, Ctibor Boráň\, Jiří HrubýKlavír: Jiří Kovář\, Jan BěhalHousle: Anna Přikrylová\, Radek HaisViola: Hana ČervenkováUmělecký přednes: Vladimír DoskočilDirigent: Petr Kučera
LOCATION:Uherský Brod
END:VEVENT
END:VCALENDAR