BEGIN:VCALENDAR
VERSION:2.0
CALSCALE:GREGORIAN
PRODID:-//MyApp//Calendar 1.0//EN
BEGIN:VEVENT
METHOD:PUBLISH
UID:52994@regionalniportaly.cz
DTSTAMP:20260425T023844Z
DTSTART;VALUE=DATE:20250809
DTEND;VALUE=DATE:20250810
SUMMARY:Pohádková stezka /  Uherské Hradiště
DESCRIPTION:🌟 Nejoblíbenější pohádková stezka míří do Uherského Hradiště! 🌟Potkejte své oblíbené pohádkové kamarády!🎉Na trase Vás čekají zábavné úkoly pro děti\, ale také Vaši oblíbení pohádkový kamarádi třeba z Tlapkové patroly\, Ledového království\,&nbsp\; králíčka Binga a mnoha dalších kamarádů\, které vaše děti zbožňují.&nbsp\;Nenechte si ujít tento jedinečný pohádkový zážitek s Vašimi dětmi.&nbsp\;👧 Vhodné pro děti ve věku 2–7 let📅 Datum: 09. 08. 2025⏰ Čas: Najdete na své zakoupené vstupence📍 Místo: Smetanovy sady\, Uherské Hradiště (ul. Stonky)🚩 Start: https://en.mapy.cz/s/docorologo🚨 POZOR\, POZOR! 🚨Poslední start pohádkové stezky je v 11:30-11:40Po tomto čase již nebude možné vstoupit na trasu\, dorazte včas! ⏰&nbsp\;Po příchodu se prosím zaregistrujte u našeho stánku.
LOCATION:Uherské Hradiště
END:VEVENT
END:VCALENDAR