BEGIN:VCALENDAR
VERSION:2.0
CALSCALE:GREGORIAN
PRODID:-//MyApp//Calendar 1.0//EN
BEGIN:VEVENT
METHOD:PUBLISH
UID:52995@regionalniportaly.cz
DTSTAMP:20260424T190119Z
DTSTART;VALUE=DATE:20250927
DTEND;VALUE=DATE:20250928
SUMMARY:Tak to jsme ještě neviděli\, Marie
DESCRIPTION:Připravte se na jedinečný zážitek\, který vás naprosto pohltí! Vstupte do světa herců\, kde každý okamžik je plný překvapení a emocí. Projdete s námi konkurzem na divadelní roli\, natáčením seriálu\, zpěvem\, tancem a improvizací na vaše vlastní návrhy. Ukážeme vám\, jak vzniká reklama\, jak probíhá talkshow a co všechno obnáší stát se hercem.Nechte se vtáhnout do našich hereckých i životních eskapád\, protože "smích zahřeje\, smích léčí". Nenechte si ujít tuto šanci zažít něco skutečně výjimečného!Délka představení: 90 minut bez přestávky
LOCATION:Svatobořice-Mistřín
END:VEVENT
END:VCALENDAR