BEGIN:VCALENDAR
VERSION:2.0
CALSCALE:GREGORIAN
PRODID:-//MyApp//Calendar 1.0//EN
BEGIN:VEVENT
METHOD:PUBLISH
UID:53084@regionalniportaly.cz
DTSTAMP:20260425T102138Z
DTSTART;VALUE=DATE:20250425
DTEND;VALUE=DATE:20250426
SUMMARY:Divadlo Ray Cooney: 3+3=5
DESCRIPTION:Hraje:&nbsp\;1. Jarkovská divadelní společnostAutor: Ray CooneyOriginální název:&nbsp\;Caught In The NetPřeklad:&nbsp\;Břetislav HodekPokračování úspěšné komedie 1+1=3 (Jeden a jedna jsou tři\, MAYDAY). Taxikáři Johnu Brownovi se již 20 let daří tajit\, že má současně dvě manželky. S jednou má dceru\, s druhou syna. Ti dva se seznámí na internetu a chtějí se osobně poznat. Tomu je ovšem potřeba s pomocí kamaráda Stanlyeho zabránit… Situační i konverzační komedie z&nbsp\;prostředí víceméně současného Londýna s bláznivou zápletkou a&nbsp\;propletenci mezi paralelními manželkami\, bohémským podnájemníkem\, popleteným staříkem\, důvtipnými dospívajícími dětmi a&nbsp\;zejména činorodým manželem\, který nemá jinou šanci než ustavičně lhát a zaplétat se víc a víc do vlastních sítí. Však se také hra v originále jmenuje "Cought in the net" – Chycen do sítě.Osoby a obsazení:JOHN BROWN - Štěpán RendlaSTANLEY GARDNER - Daniel SkřipčákMARY BROWNOVÁ - Jana MischingerováBARBARA BROWNOVÁ - Renáta SkupníkováVICKI BROWNOVÁ - Tereza RendlováKEVIN BROWN - Filip RadaTAŤKA - Vladimír VašíčekRežie: Petr RadaNápověda: Gabriela RamíkováZvuk\, světla: Radomír Czempiel / Karel Franczykdélka představení 100 min + přestávka
LOCATION:Prušánky
END:VEVENT
END:VCALENDAR