BEGIN:VCALENDAR
VERSION:2.0
CALSCALE:GREGORIAN
PRODID:-//MyApp//Calendar 1.0//EN
BEGIN:VEVENT
METHOD:PUBLISH
UID:53364@regionalniportaly.cz
DTSTAMP:20260425T101954Z
DTSTART;VALUE=DATE:20250510
DTEND;VALUE=DATE:20250511
SUMMARY:II. Pivní festival
DESCRIPTION:I letos se můžete těšit na již II.PIVNÍ FESTIVAL!Připraveno pro vás bude vynikající občerstvení:&nbsp\;makrely na grilu&nbsp\;hambáče od Grill &amp\; Chill&nbsp\;Lumpova pizzaNebudou chybět pivní speciály od řemeslných pivovarů Rychtik\, Dubňák a speciály místního Sportklubu.Na stagi se nám letos vystřídají čtyři úžasné kapely Just a Girl\, The Misalignments\, Second End a Wedlock\, takže na vás čeká pořádný rockový nářez!&nbsp\;Těší se na na vás ČAROMETLE.
LOCATION:Prušánky
END:VEVENT
END:VCALENDAR