BEGIN:VCALENDAR
VERSION:2.0
CALSCALE:GREGORIAN
PRODID:-//MyApp//Calendar 1.0//EN
BEGIN:VEVENT
METHOD:PUBLISH
UID:53489@regionalniportaly.cz
DTSTAMP:20260425T115141Z
DTSTART;VALUE=DATE:20250516
DTEND;VALUE=DATE:20250517
SUMMARY:VIP BOX Classic
DESCRIPTION:Možnost rezervace&nbsp\;VIP boxu&nbsp\;je tady!Box přímo u DJe\, obsluha do boxu a mnoho dalšího!V ceně&nbsp\;VIP boxu:- bottle service (dle nabídky)- 5x vstup&nbsp\;- rezervovaný box vedle DJe- obsluha do boxu&nbsp\;Příchod do podniku musí být před půlnocí!
LOCATION:Uherské Hradiště
END:VEVENT
END:VCALENDAR