BEGIN:VCALENDAR
VERSION:2.0
CALSCALE:GREGORIAN
PRODID:-//MyApp//Calendar 1.0//EN
BEGIN:VEVENT
METHOD:PUBLISH
UID:53529@regionalniportaly.cz
DTSTAMP:20260424T215738Z
DTSTART;VALUE=DATE:20250816
DTEND;VALUE=DATE:20250817
SUMMARY:Otevřené sklepy Vinařství Josef Dufek
DESCRIPTION:Přátelé\,přijměte naše srdečné&nbsp\;pozvání na 6. ročník našich Otevřených sklepů\,&nbsp\;který se bude tradičně konat třetí týden v srpnu\, tedy 16. 8. 2025.Těšit se můžete na prohlídkové jízdy vinicemi\, degustace 150 druhů vín\, včetně archivů a sektů\, francouzské sýry\, domácí speciality\, dezerty\, cimbálovou&nbsp\;muziku a mnohé další.Po dobu trvání akce bude probíhat sleva na celý sortiment našich vín.&nbsp\;V ceně vstupného je zahrnuta&nbsp\;sklenici\, katalog\, neomezená&nbsp\;konzumace&nbsp\;vína\, návštěva sklepa z roku 1540 a 1719 a mnohé další.Zakoupením vstupenky se zapojíte do slosování o 3 kartony archivních vín.V předpodeji je cena vstupenky 600 Kč\, na místě 700 Kč.&nbsp\;Těšíme se na Vaši náštěvu!&nbsp\;Kolektiv Vinařství Josef Dufek&nbsp\;
LOCATION:Svatobořice-Mistřín
END:VEVENT
END:VCALENDAR