BEGIN:VCALENDAR
VERSION:2.0
CALSCALE:GREGORIAN
PRODID:-//MyApp//Calendar 1.0//EN
BEGIN:VEVENT
METHOD:PUBLISH
UID:53785@regionalniportaly.cz
DTSTAMP:20260425T103224Z
DTSTART;VALUE=DATE:20250613
DTEND;VALUE=DATE:20250614
SUMMARY:Zrní na Poli designu
DESCRIPTION:Zrní jsou stopaři nových postupů\, kteří se pohybují v meziprostoru alternativy a popkultury. Nezaměnitelná je poetika v jejich textech i skladatelsko-producentský přístup\, v němž fúzují žánry a panuje absolutní volnost. Jejich hudba je černá díra\, která pohltí cokoliv: od glassovského minimalismu přes podivné disco\, folkové písničkářství až po psychedelickou závrať.Kladenský děti květin.&nbsp\;Texty jsou zenový\, o pomíjivosti\, o blbostech a dost o lásce\, která tam někde po odstranění rozumu evidentně neustále číhá.&nbsp\;18.00 vernisáž Salónu dřevostavebvenkovní vaření na autovestavbách&nbsp\;19.30 koncert&nbsp\;
LOCATION:Bílovice
END:VEVENT
END:VCALENDAR