BEGIN:VCALENDAR
VERSION:2.0
CALSCALE:GREGORIAN
PRODID:-//MyApp//Calendar 1.0//EN
BEGIN:VEVENT
METHOD:PUBLISH
UID:53787@regionalniportaly.cz
DTSTAMP:20260422T101414Z
DTSTART;VALUE=DATE:20260317
DTEND;VALUE=DATE:20260318
SUMMARY:Jiří Kolbaba\, Ukradená země - USA
DESCRIPTION:Ukradená země (cesta napříč USA)&nbsp\;Při neobvykle dlouhé cestě z New Yorku na západní pobřeží a zpět do New Yorku navštívíme známá i neznámá města\, ale zejména fantastické Národní parky jihozápadu USA. Vzdáme hold několika chrámům americké divočiny\, hrdinným indiánům - kterým byla tato země ukradena - i méně známým fenoménům současné Ameriky. USA – cestovatelsky velmi vděčná země – nabídne nová zamyšlení a množství objevitelských inspirací. GO TO THE USA!
LOCATION:Strážnice
END:VEVENT
END:VCALENDAR