BEGIN:VCALENDAR
VERSION:2.0
CALSCALE:GREGORIAN
PRODID:-//MyApp//Calendar 1.0//EN
BEGIN:VEVENT
METHOD:PUBLISH
UID:53805@regionalniportaly.cz
DTSTAMP:20260425T041211Z
DTSTART;VALUE=DATE:20250530
DTEND;VALUE=DATE:20250531
SUMMARY:Majáles Uherský Brod 2025
DESCRIPTION:IBIZAAAAA!Nemůžeš se dočkat na letní dovolenou na slunečné pláži? Pak jsme letošní Majáles připravili přimo PRO TEBE!Doraž za si za námi do Uherského Brodu užít letní atmosféru slunné Ibizy!vystoupí:Sergei&nbsp\;BarracudaSodoma GomoraLajfr12:PIETScarlet RoseDJ DohnyskeroDJ Pavlys&nbsp\;info:akce je 15+do areálu sportovní haly je ZAKÁZÁNO vnášet vlastní jídlo\, nápoje\, zavazadla\, zbraně\, pyrotechniku a veškeré drogy/návykové látkyv prostorách sportovní haly je ZAKÁZÁNO kouřitv prostorách haly bude stánek s nápoji (alko\, nealko) i s občerstvením(vstupenky jsou na večerní program\, který začíná v 19:30)
LOCATION:Uherský Brod
END:VEVENT
END:VCALENDAR