BEGIN:VCALENDAR
VERSION:2.0
CALSCALE:GREGORIAN
PRODID:-//MyApp//Calendar 1.0//EN
BEGIN:VEVENT
METHOD:PUBLISH
UID:54267@regionalniportaly.cz
DTSTAMP:20260424T184018Z
DTSTART;VALUE=DATE:20251025
DTEND;VALUE=DATE:20251026
SUMMARY:Carlo Goldoni: Sluha dvou pánů
DESCRIPTION:Divadlo Bez Hranic\, pražská scéna\, uvádí\, v rámci republikového turné k příležitosti 10ti let od premiéry\, interaktivní komedii plnou improvizace\, ve které se divák stává nedílnou a důležitou součástí představení!Carlo Goldoni: Sluha dvou pánůBenátky! A všude kolem takové pozdvižení!! Že by zde probíhal legendární karneval? Ale kdeže… to se jen sluha Truffaldino rozhodl sloužit dvěma pánům zároveň. A že taková služba není nic lehkého a přináší s sebou nespočet omylů a problémů\, je tedy celkem nasnadě. Rej bláznivých situací\, interaktivních výstupů commedie dell arte\, písní\, šermů a hlavně skvělé zábavy tedy může začít… Klasická komedie žánru dell´arte\, ve které naleznete originální písně\, improvizaci a především mnoho interaktivních komických situací\, které můžete pomoci rozřešit právě Vy!&nbsp\;
LOCATION:Popovice
END:VEVENT
END:VCALENDAR