BEGIN:VCALENDAR
VERSION:2.0
CALSCALE:GREGORIAN
PRODID:-//MyApp//Calendar 1.0//EN
BEGIN:VEVENT
METHOD:PUBLISH
UID:54472@regionalniportaly.cz
DTSTAMP:20260425T103338Z
DTSTART;VALUE=DATE:20250616
DTEND;VALUE=DATE:20250617
SUMMARY:Sushi Time 3 - Sněz\, co můžeš!
DESCRIPTION:SUSHI TIME 3 – Neomezený sushi bufet ve Viet Gardenu!&nbsp\;Přijď si užít večer plný čerstvého sushi\, lahodných předkrmů a sladkého ovoce v jedinečné atmosféře\, tentokrát v uzavřené restauraci určené jen pro hosty s platnou vstupenkou!Kdy? Pondělí 16. 6. 2025Čas? 18:00 – 20:30Kde? Viet Garden\, Hradební 1198\, Uherské HradištěCena? 699 Kč dospělí / 350 Kč děti 6–12 letOd 18:00 proběhne odbavení online i klasických vstupenek. Hosté se pohodlně usadí\, objednají si nápoje a připraví se na gurmánský zážitek.V 18:30-20:30 bude zpřístupněn raut s neomezeným sushi\, předkrmy\, ovocem a nově také ledovým čajem\, který si každý může načepovat sám dle chuti.Se vstupenkou máš automaticky rezervaci stolu a jisté místo.Restaurace bude po celou dobu akce uzavřena pro veřejnost\, takže tě čeká ničím nerušený zážitek.Kapacita je omezená\, tak si své místo rezervuj co nejdřív!80 vstupenek pouze!&nbsp\;Nepropásni skvělou příležitost ochutnat to nejlepší ze sushi a zažít výjimečný večer ve stylovém prostředí.&nbsp\;Chceš více informací?Neváhej zavolat na tel. 776 633 138Těšíme se na tebe!Tým Viet GardenNejmodernější Asijská Restaurace v Uherském Hradišti
LOCATION:Uherské Hradiště
END:VEVENT
END:VCALENDAR