BEGIN:VCALENDAR
VERSION:2.0
CALSCALE:GREGORIAN
PRODID:-//MyApp//Calendar 1.0//EN
BEGIN:VEVENT
METHOD:PUBLISH
UID:54836@regionalniportaly.cz
DTSTAMP:20260425T023759Z
DTSTART;VALUE=DATE:20250704
DTEND;VALUE=DATE:20250705
SUMMARY:Andrea Pomeje / Meyw
DESCRIPTION:První den beachového léta je tady a my jsme si pro Vás připravili jednu z největších DJek v České Republice. Andrea Pomeje představuje své sety po celém světe\, a tak bude opravdu se na co těšit!Headliner: ANDREA POMEJESupport DJ: Meyw&nbsp\;Vstup povolen od 16 let
LOCATION:Uherské Hradiště
END:VEVENT
END:VCALENDAR