BEGIN:VCALENDAR
VERSION:2.0
CALSCALE:GREGORIAN
PRODID:-//MyApp//Calendar 1.0//EN
BEGIN:VEVENT
METHOD:PUBLISH
UID:54926@regionalniportaly.cz
DTSTAMP:20260425T040326Z
DTSTART;VALUE=DATE:20250724
DTEND;VALUE=DATE:20250725
SUMMARY:Koně a prase - nejen koncert na Poli designu
DESCRIPTION:Eko-disco-punkové trio vychází z jednoduchých melodií a každodenních situací\, které se promítají do textů plných důrazů na ekologii a společenskou kritiku. Jejich electro-disco spodky znějí neotřele\, svěže a budou vás nutit si zatrsat.&nbsp\;
LOCATION:Bílovice
END:VEVENT
END:VCALENDAR