BEGIN:VCALENDAR
VERSION:2.0
CALSCALE:GREGORIAN
PRODID:-//MyApp//Calendar 1.0//EN
BEGIN:VEVENT
METHOD:PUBLISH
UID:55047@regionalniportaly.cz
DTSTAMP:20260424T215953Z
DTSTART;VALUE=DATE:20251025
DTEND;VALUE=DATE:20251026
SUMMARY:Divadlo Kalich - Bez předsudků
DESCRIPTION:Hra se odehrává v motelu\, kde musí v jediném volném pokoji neplánovaně přespat Diego s Fionou\, dva letití přátelé. Společná noc jim nabídne možnost otevřeně si popovídat o věcech\, na které se ženy jinak ostýchají ptát mužů a muži žen.Bez předsudků je tedy výtečnou komedií předně o kamarádství\, o tajemstvích\, o zvědavosti a hlavně - o nás\, jejích divácích.Stáváme se svědky vtipného\, vybroušeného\, velmi trefného a místy i dojemného slovního souboje obou postav. A nebyli by to Jana Paulová s Pavlem Zedníčkem\, aby k němu nepřidali řadu nezapomenutelných gagů.Premiéra této hry byla v roce&nbsp\;2004\, hraje se tedy neuveřitelných 21&nbsp\;let.
LOCATION:Mikulčice
END:VEVENT
END:VCALENDAR