BEGIN:VCALENDAR
VERSION:2.0
CALSCALE:GREGORIAN
PRODID:-//MyApp//Calendar 1.0//EN
BEGIN:VEVENT
METHOD:PUBLISH
UID:55292@regionalniportaly.cz
DTSTAMP:20260424T215649Z
DTSTART;VALUE=DATE:20250827
DTEND;VALUE=DATE:20250828
SUMMARY:Tenkrát na Západě - Grande Moravia Ladislava Pavluše
DESCRIPTION:Zvuk cimbálu\, který vibruje v hrudi. Obrazy\, které berou dech. A hudba\, která se stala legendou.Na zámku Milotice se odehraje koncertní událost léta – Tenkrát na Západě.Orchestr Grande Moravia&nbsp\;Ladislava Pavluše\, přináší nezapomenutelný večer s mistrovskými díly Ennia Morriconeho:The Ecstasy of Gold\, Once Upon a Time in the West\, Chi Mai\, Deborah’s Theme a další.Cimbál – srdce orchestru – dodává slavným melodiím nový\, podmanivý rozměr.Večer doplní videoprojekce\, která propojí zvuk s obrazem a oživí magii filmového plátna.
LOCATION:Milotice
END:VEVENT
END:VCALENDAR