BEGIN:VCALENDAR
VERSION:2.0
CALSCALE:GREGORIAN
PRODID:-//MyApp//Calendar 1.0//EN
BEGIN:VEVENT
METHOD:PUBLISH
UID:55942@regionalniportaly.cz
DTSTAMP:20260424T202901Z
DTSTART;VALUE=DATE:20251031
DTEND;VALUE=DATE:20251101
SUMMARY:Abbie Falls
DESCRIPTION:Všichni metalcoroví fans pozor! Máme pro vás exkluzivní koncert kapely Abbie Falls\, která zavítá poprvé do klubu Mír 31. října 2025! Tato nejvíce streamovaná česká corovka na našem území moc nevystupuje\, a proto si tento koncert nesmíš nechat ujít.Společnost jim budou dělat domácí We The Gods a jejich parťáci Marked As An Enemy\, kteří si letos střihli Rock for People. Speciální host je deathcorovka Swept Into Decay.&nbsp\;Prostě metalcorový zážitek zaručený.
LOCATION:Uherské Hradiště
END:VEVENT
END:VCALENDAR