BEGIN:VCALENDAR
VERSION:2.0
CALSCALE:GREGORIAN
PRODID:-//MyApp//Calendar 1.0//EN
BEGIN:VEVENT
METHOD:PUBLISH
UID:56148@regionalniportaly.cz
DTSTAMP:20260425T023835Z
DTSTART;VALUE=DATE:20250802
DTEND;VALUE=DATE:20250803
SUMMARY:Vinařská noc Sudoměřice
DESCRIPTION:VINAŘSKÁ NOC 2025Sobota 2. srpna 2025 od 20:00Přírodní amfiteátr Sudoměřice&nbsp\;Zažijte první ročník jedinečné Vinařské noci v Sudoměřicích!Letní večer pod širým nebem\, lahodná vína\, skvělá hudba a přátelská atmosféra\, na kterou nezapomenete.&nbsp\;SPECIÁLNÍ HOST: THE BASKETLESBeatles revival\, který vás přenese zpět do zlaté éry hudby!&nbsp\;Svoje vína představí:• Vinařství Bučkovi• Vinařství Pavla Brázdová• Vinařství Lukáš Veverka• Spolek ZO ČZS Sudoměřice&nbsp\;Vstupné:Předprodej: 250 KčNa místě: 300 KčTěšit se můžete na:Degustace regionálních vínLetní atmosféru pod hvězdamiSkvělou hudbu a tanecObčerstvení a příjemné posezení v přírodním amfiteátru&nbsp\;Sdílejte událost\, pozvěte přátele a buďte u zrodu nové vinařské tradice v Sudoměřicích!
LOCATION:Sudoměřice
END:VEVENT
END:VCALENDAR