BEGIN:VCALENDAR
VERSION:2.0
CALSCALE:GREGORIAN
PRODID:-//MyApp//Calendar 1.0//EN
BEGIN:VEVENT
METHOD:PUBLISH
UID:56201@regionalniportaly.cz
DTSTAMP:20260424T130251Z
DTSTART;VALUE=DATE:20251107
DTEND;VALUE=DATE:20251108
SUMMARY:Sodoma Gomora
DESCRIPTION:Další svátek hudby pro všechny milovníky horrorcoru. Tahle akce bude speciální. Do klubu Mír v Uherském Hradišti se sjede celá ZNK CREW\, tedy špička potemnělé rapové scény. Kromě SODOMA GOMORA se můžete těšit na ASTRAL ONE\, HAADESE a BYZO.
LOCATION:Uherské Hradiště
END:VEVENT
END:VCALENDAR