BEGIN:VCALENDAR
VERSION:2.0
CALSCALE:GREGORIAN
PRODID:-//MyApp//Calendar 1.0//EN
BEGIN:VEVENT
METHOD:PUBLISH
UID:56206@regionalniportaly.cz
DTSTAMP:20260424T125257Z
DTSTART;VALUE=DATE:20251129
DTEND;VALUE=DATE:20251130
SUMMARY:Prago Union
DESCRIPTION:PRAGO UNION (KATO) v Klubu Mír!V sobotu&nbsp\;29. listopadu dorazí do Klubu Mír v Uherském Hradišti opravdová legenda českého hip-hopu – KATO se svým projektem PRAGO UNION.Těš se na poctivý oldschool rap\, chytlavé beaty a autentickou atmosféru\, kterou na české scéně umí jen oni.O support se postará DJ CZECHMIKE\, který rozjede večer ve velkém stylu.Klub Mír\, Uherské HradištěSobota 29. 11. 2025Veteráni českého hip-hopu zpátky na pódiu!
LOCATION:Uherské Hradiště
END:VEVENT
END:VCALENDAR