BEGIN:VCALENDAR
VERSION:2.0
CALSCALE:GREGORIAN
PRODID:-//MyApp//Calendar 1.0//EN
BEGIN:VEVENT
METHOD:PUBLISH
UID:56225@regionalniportaly.cz
DTSTAMP:20260424T190205Z
DTSTART;VALUE=DATE:20250927
DTEND;VALUE=DATE:20250928
SUMMARY:Zerocalypse UH vol. II
DESCRIPTION:Kapela Made By Zero Vám přináší 2. ročník akce v její režii\, a sice ZEROCALYPSE vol. II. Na letošní edici si borci přizvali tahle jména:Z pražské metropole velmi rychle rostoucí a našlapanou thrash hardcore smečku Crippled Fingers\, která Vás rozhodně nenechá sedět na prdeli\, dále pak z dalekého severu Čech dovalí deathcore mlátička InVeins\, která je sice v line up služebně nejmladší\, ale sestavuje se z velmi zkušených muzikantů\, a v neposlední řadě ve slováckém regionu velmi známá modern deathmetalová stálice Landscape of Shadows\, která borcům minulý rok z line up vypadla kvůli nemoci\, tak si dá letos reparát. Přijďte na konci září zaházet makovicí a pořádně rozpohybovat podlahu klubu Mír!&nbsp\;(více informací o kapelách níže)
LOCATION:Uherské Hradiště
END:VEVENT
END:VCALENDAR